BEGIN:VCALENDAR
VERSION:2.0
PRODID:icalendar-ruby
CALSCALE:GREGORIAN
METHOD:PUBLISH
BEGIN:VEVENT
DTSTAMP:20260421T023541Z
UID:87-529197@clevelandumc.com
DTSTART:20260504T223000Z
DTEND:20260504T233000Z
CLASS:PUBLIC
CREATED:20260420T141635
DESCRIPTION:Cub Scout pack #3136 meets on Monday evenings from 6:30pm-7:30p
 m at First United Methodist Church in the Gym.\nFor more information or to
  sign up call Pack Leader\,  Lisa Poe-Jones at 423-650-8085.\nOctober - P
 umpkin Design Contest \nNovember - Veterans Day Speaker\nFebruary  - Blu
 e &amp\; Gold Banquet  &amp\; Cake Decorating contest\nApril - Pack Meeti
 ng at the Greenway\nMay  - Pack Meeting and Awards\nMay  - Flags on Vete
 rans' graves\nJuly - Day Camp
LAST-MODIFIED:20260420T141635
LOCATION:Gym
SUMMARY:Cub Scouts
URL;VALUE=URI:https://clevelandumc.com/events/cub-scouts--87/2026-05-04
ATTACH;FILENAME=TIME SLIDE.jpg;FMTTYPE=image/jpeg:https://dq5pwpg1q8ru0.clo
 udfront.net/2024/08/12/15/32/46/5d3272ff-b481-4931-bed0-8773b2234bd5/TIME%
 20SLIDE.jpg
END:VEVENT
END:VCALENDAR
